BEGIN:VCALENDAR
VERSION:2.0
PRODID:GIGPRESS 2.0 WORDPRESS PLUGIN
CALSCALE:GREGORIAN
X-WR-TIMEZONE:Etc/GMT
METHOD:PUBLISH
BEGIN:VTIMEZONE
TZID:GMT
BEGIN:STANDARD
DTSTART:20071028T010000
TZOFFSETTO:+0000
TZOFFSETFROM:+0000
END:STANDARD
END:VTIMEZONE
BEGIN:VEVENT
SUMMARY:Blue Grass Boogiemen at Sweet Freedom Festival
DESCRIPTION:Tour: Blue Grass Boogiemen. All Ages
LOCATION:Sweet Freedom Festival\, Oosterbeek\, NL
UID:20260509-651-hillbmen@xs4all.nl
URL:http://bluegrassboogiemen.nl
DTSTART;VALUE=DATE;TZID=GMT:20260509
DTEND;VALUE=DATE;TZID=GMT:20260509
DTSTAMP:20260420T125111Z
END:VEVENT
END:VCALENDAR